BEGIN:VCALENDAR
VERSION:2.0
PRODID:hiewoc.exploreoc.com
X-WR-CALNAME:Happy Hour & Dinner Specials at Blu Crabhouse & Raw Bar
BEGIN:VEVENT
UID:6222026-04-232026-04-23
DTSTART:20260423T200000Z
SEQUENCE:0
TRANSP:OPAQUE
DTEND:20260423T200000Z
LOCATION:2305 Philadelphia Ave\nOcean City MD 21842
X-APPLE-STRUCTURED-LOCATION;VALUE=URI;X-ADDRESS=2305 Philadelphia Ave\nOcea
 n City MD 21842;X-APPLE-RADIUS=49;X-TITLE=2305 Philadelphia Ave:geo:38.353
 477,-75.077515
GEO:38.353477;-75.077515
SUMMARY:Happy Hour & Dinner Specials at Blu Crabhouse & Raw Bar
CLASS:PUBLIC
DESCRIPTION:TODAY'S SPRING OFF-SEASON SPECIAL\n\n_Wednesday\, Thursday\, an
 d Friday ~_\n\n * Buy 1 Entree\, Get 1 Entree Half Off \n\n_Wednesday\, T
 hursday\, Friday\, and Saturday ~ _\n\n * Happy Hour All Night at The Bar
  \n \n\n
X-ALT-DESC;FMTTYPE=text/html:<p><strong>Today&#39\;s Spring Off-Season Spec
 ial</strong><br />\n<br />\n<em>Wednesday\, Thursday\, and Friday ~</em></
 p>\n\n<ul>\n<li>Buy 1 Entree\, Get 1 Entree Half Off&nbsp\;</li>\n</ul>\n\
 n<p><br />\n<em>Wednesday\, Thursday\, Friday\, and Saturday ~&nbsp\;</em>
 </p>\n\n<ul>\n<li>Happy Hour All Night at The Bar&nbsp\;<br />\n&nbsp\;</l
 i>\n</ul>
DTSTAMP:20260425T145645Z
END:VEVENT
BEGIN:VEVENT
UID:6222026-04-242026-04-24
DTSTART:20260424T200000Z
SEQUENCE:0
TRANSP:OPAQUE
DTEND:20260424T200000Z
LOCATION:2305 Philadelphia Ave\nOcean City MD 21842
X-APPLE-STRUCTURED-LOCATION;VALUE=URI;X-ADDRESS=2305 Philadelphia Ave\nOcea
 n City MD 21842;X-APPLE-RADIUS=49;X-TITLE=2305 Philadelphia Ave:geo:38.353
 477,-75.077515
GEO:38.353477;-75.077515
SUMMARY:Happy Hour & Dinner Specials at Blu Crabhouse & Raw Bar
CLASS:PUBLIC
DESCRIPTION:TODAY'S SPRING OFF-SEASON SPECIAL\n\n_Wednesday\, Thursday\, an
 d Friday ~_\n\n * Buy 1 Entree\, Get 1 Entree Half Off \n\n_Wednesday\, T
 hursday\, Friday\, and Saturday ~ _\n\n * Happy Hour All Night at The Bar
  \n \n\n
X-ALT-DESC;FMTTYPE=text/html:<p><strong>Today&#39\;s Spring Off-Season Spec
 ial</strong><br />\n<br />\n<em>Wednesday\, Thursday\, and Friday ~</em></
 p>\n\n<ul>\n<li>Buy 1 Entree\, Get 1 Entree Half Off&nbsp\;</li>\n</ul>\n\
 n<p><br />\n<em>Wednesday\, Thursday\, Friday\, and Saturday ~&nbsp\;</em>
 </p>\n\n<ul>\n<li>Happy Hour All Night at The Bar&nbsp\;<br />\n&nbsp\;</l
 i>\n</ul>
DTSTAMP:20260425T145645Z
END:VEVENT
BEGIN:VEVENT
UID:6222026-04-252026-04-25
DTSTART:20260425T200000Z
SEQUENCE:0
TRANSP:OPAQUE
DTEND:20260425T200000Z
LOCATION:2305 Philadelphia Ave\nOcean City MD 21842
X-APPLE-STRUCTURED-LOCATION;VALUE=URI;X-ADDRESS=2305 Philadelphia Ave\nOcea
 n City MD 21842;X-APPLE-RADIUS=49;X-TITLE=2305 Philadelphia Ave:geo:38.353
 477,-75.077515
GEO:38.353477;-75.077515
SUMMARY:Happy Hour & Dinner Specials at Blu Crabhouse & Raw Bar
CLASS:PUBLIC
DESCRIPTION:TODAY'S SPRING OFF-SEASON SPECIAL\n\n_Wednesday\, Thursday\, an
 d Friday ~_\n\n * Buy 1 Entree\, Get 1 Entree Half Off \n\n_Wednesday\, T
 hursday\, Friday\, and Saturday ~ _\n\n * Happy Hour All Night at The Bar
  \n \n\n
X-ALT-DESC;FMTTYPE=text/html:<p><strong>Today&#39\;s Spring Off-Season Spec
 ial</strong><br />\n<br />\n<em>Wednesday\, Thursday\, and Friday ~</em></
 p>\n\n<ul>\n<li>Buy 1 Entree\, Get 1 Entree Half Off&nbsp\;</li>\n</ul>\n\
 n<p><br />\n<em>Wednesday\, Thursday\, Friday\, and Saturday ~&nbsp\;</em>
 </p>\n\n<ul>\n<li>Happy Hour All Night at The Bar&nbsp\;<br />\n&nbsp\;</l
 i>\n</ul>
DTSTAMP:20260425T145645Z
END:VEVENT
BEGIN:VEVENT
UID:6222026-04-292026-04-29
DTSTART:20260429T200000Z
SEQUENCE:0
TRANSP:OPAQUE
DTEND:20260429T200000Z
LOCATION:2305 Philadelphia Ave\nOcean City MD 21842
X-APPLE-STRUCTURED-LOCATION;VALUE=URI;X-ADDRESS=2305 Philadelphia Ave\nOcea
 n City MD 21842;X-APPLE-RADIUS=49;X-TITLE=2305 Philadelphia Ave:geo:38.353
 477,-75.077515
GEO:38.353477;-75.077515
SUMMARY:Happy Hour & Dinner Specials at Blu Crabhouse & Raw Bar
CLASS:PUBLIC
DESCRIPTION:TODAY'S SPRING OFF-SEASON SPECIAL\n\n_Wednesday\, Thursday\, an
 d Friday ~_\n\n * Buy 1 Entree\, Get 1 Entree Half Off \n\n_Wednesday\, T
 hursday\, Friday\, and Saturday ~ _\n\n * Happy Hour All Night at The Bar
  \n \n\n
X-ALT-DESC;FMTTYPE=text/html:<p><strong>Today&#39\;s Spring Off-Season Spec
 ial</strong><br />\n<br />\n<em>Wednesday\, Thursday\, and Friday ~</em></
 p>\n\n<ul>\n<li>Buy 1 Entree\, Get 1 Entree Half Off&nbsp\;</li>\n</ul>\n\
 n<p><br />\n<em>Wednesday\, Thursday\, Friday\, and Saturday ~&nbsp\;</em>
 </p>\n\n<ul>\n<li>Happy Hour All Night at The Bar&nbsp\;<br />\n&nbsp\;</l
 i>\n</ul>
DTSTAMP:20260425T145645Z
END:VEVENT
BEGIN:VEVENT
UID:6222026-04-302026-04-30
DTSTART:20260430T200000Z
SEQUENCE:0
TRANSP:OPAQUE
DTEND:20260430T200000Z
LOCATION:2305 Philadelphia Ave\nOcean City MD 21842
X-APPLE-STRUCTURED-LOCATION;VALUE=URI;X-ADDRESS=2305 Philadelphia Ave\nOcea
 n City MD 21842;X-APPLE-RADIUS=49;X-TITLE=2305 Philadelphia Ave:geo:38.353
 477,-75.077515
GEO:38.353477;-75.077515
SUMMARY:Happy Hour & Dinner Specials at Blu Crabhouse & Raw Bar
CLASS:PUBLIC
DESCRIPTION:TODAY'S SPRING OFF-SEASON SPECIAL\n\n_Wednesday\, Thursday\, an
 d Friday ~_\n\n * Buy 1 Entree\, Get 1 Entree Half Off \n\n_Wednesday\, T
 hursday\, Friday\, and Saturday ~ _\n\n * Happy Hour All Night at The Bar
  \n \n\n
X-ALT-DESC;FMTTYPE=text/html:<p><strong>Today&#39\;s Spring Off-Season Spec
 ial</strong><br />\n<br />\n<em>Wednesday\, Thursday\, and Friday ~</em></
 p>\n\n<ul>\n<li>Buy 1 Entree\, Get 1 Entree Half Off&nbsp\;</li>\n</ul>\n\
 n<p><br />\n<em>Wednesday\, Thursday\, Friday\, and Saturday ~&nbsp\;</em>
 </p>\n\n<ul>\n<li>Happy Hour All Night at The Bar&nbsp\;<br />\n&nbsp\;</l
 i>\n</ul>
DTSTAMP:20260425T145645Z
END:VEVENT
END:VCALENDAR