BEGIN:VCALENDAR
VERSION:2.0
PRODID:WorCo
X-WR-CALNAME:Free Artist Talk with Carly Whittington
BEGIN:VEVENT
UID:352742026-05-15
DTSTART:20260515T180000Z
SEQUENCE:0
TRANSP:OPAQUE
DTEND:20260515T200000Z
LOCATION:9403 Coastal Highway\nOcean City Maryland 21842
X-APPLE-STRUCTURED-LOCATION;VALUE=URI;X-ADDRESS=9403 Coastal Highway\nOcean
  City Maryland 21842;X-APPLE-RADIUS=49;X-TITLE=9403 Coastal Highway:geo:38
 .410046,-75.062181
GEO:38.410046;-75.062181
SUMMARY:Free Artist Talk with Carly Whittington
CLASS:PUBLIC
DESCRIPTION:Get to know Baltimore native and former Art major at Towson\nUn
 iversity\, Carly Whittington and learn about how the beach reignited\nher 
 love for art and continues to inspire her travel photography and\nabstract
  mixed media surfboards. Hear from a young emerging artist on\nfinding tim
 e between owning her own business to create and taking the\nleap to pursue
  her passions. Meet other art enthusiasts\, ask\nquestions\, and collect a
  piece today!\nAdvanced registration preferred\n
X-ALT-DESC;FMTTYPE=text/html:<p>Get to know Baltimore native and former Art
  major at Towson University\, Carly Whittington and learn about how the be
 ach reignited her love for art and continues to inspire her travel photogr
 aphy and abstract mixed media surfboards. Hear from a young emerging artis
 t on finding time between owning her own business to create and taking the
  leap to pursue her passions. Meet other art enthusiasts\, ask questions\,
  and collect a piece today!<br />\nAdvanced registration preferred</p>
DTSTAMP:20260425T204830Z
END:VEVENT
END:VCALENDAR